BEGIN:VCALENDAR
VERSION:2.0
PRODID:-//Aurodhan - ECPv6.15.11//NONSGML v1.0//EN
CALSCALE:GREGORIAN
METHOD:PUBLISH
X-ORIGINAL-URL:https://aurodhan.com
X-WR-CALDESC:Events for Aurodhan
REFRESH-INTERVAL;VALUE=DURATION:PT1H
X-Robots-Tag:noindex
X-PUBLISHED-TTL:PT1H
BEGIN:VTIMEZONE
TZID:UTC
BEGIN:STANDARD
TZOFFSETFROM:+0000
TZOFFSETTO:+0000
TZNAME:UTC
DTSTART:20190101T000000
END:STANDARD
END:VTIMEZONE
BEGIN:VTIMEZONE
TZID:Asia/Kolkata
BEGIN:STANDARD
TZOFFSETFROM:+0530
TZOFFSETTO:+0530
TZNAME:IST
DTSTART:20180101T000000
END:STANDARD
END:VTIMEZONE
BEGIN:VEVENT
DTSTART;TZID=UTC:20200125T183000
DTEND;TZID=UTC:20200125T190000
DTSTAMP:20260425T163259
CREATED:20200116T044826Z
LAST-MODIFIED:20200129T040802Z
UID:2600-1579977000-1579978800@aurodhan.com
SUMMARY:INVITE YOU FOR BOOK LAUNCH OF DR. KARAN SINGH
DESCRIPTION:
URL:https://aurodhan.com/event/invite-you-for-book-lunch-of-dr-karan-singh/
ATTACH;FMTTYPE=image/jpeg:https://aurodhan.com/wp-content/uploads/2020/01/KKKK.jpg
END:VEVENT
BEGIN:VEVENT
DTSTART;TZID=UTC:20200120T100000
DTEND;TZID=UTC:20200120T110000
DTSTAMP:20260425T163259
CREATED:20200120T100448Z
LAST-MODIFIED:20200120T100448Z
UID:2608-1579514400-1579518000@aurodhan.com
SUMMARY:MAHESH VINAYAKRAM PRESENTS MUSIC AND MEDITATION
DESCRIPTION:
URL:https://aurodhan.com/event/mahesh-vinayakram-presents-music-and-meditation/
ATTACH;FMTTYPE=application/pdf:https://aurodhan.com/wp-content/uploads/2020/01/Mahesh-Poster-1.pdf
END:VEVENT
BEGIN:VEVENT
DTSTART;TZID=UTC:20200117T180000
DTEND;TZID=UTC:20200117T193000
DTSTAMP:20260425T163259
CREATED:20200113T111222Z
LAST-MODIFIED:20200113T111222Z
UID:2580-1579284000-1579289400@aurodhan.com
SUMMARY:MAGICAL ART WORK-BIRGITTA VOLZ
DESCRIPTION:
URL:https://aurodhan.com/event/magical-art-work-birgitta-volz/
ATTACH;FMTTYPE=image/jpeg:https://aurodhan.com/wp-content/uploads/2020/01/Aurodhan-Poster-Birgitta.jpg
END:VEVENT
BEGIN:VEVENT
DTSTART;TZID=UTC:20200117T180000
DTEND;TZID=UTC:20200117T190000
DTSTAMP:20260425T163259
CREATED:20200113T112010Z
LAST-MODIFIED:20200120T100747Z
UID:2585-1579284000-1579287600@aurodhan.com
SUMMARY:EVA STEHLI AHIA - ORIENTAL DANCE FROM EGYPT
DESCRIPTION:
URL:https://aurodhan.com/event/eva-stehli-ahia-oriental-dance-from-egypt/
ATTACH;FMTTYPE=image/jpeg:https://aurodhan.com/wp-content/uploads/2020/01/AURODHAN-Eva-Stehli-ahia.jpg
END:VEVENT
BEGIN:VEVENT
DTSTART;TZID=UTC:20200115T170000
DTEND;TZID=UTC:20200115T183000
DTSTAMP:20260425T163259
CREATED:20200116T043806Z
LAST-MODIFIED:20200116T043947Z
UID:2596-1579107600-1579113000@aurodhan.com
SUMMARY:journey of silence- healing through sound  by Vibha Shah
DESCRIPTION:
URL:https://aurodhan.com/event/journey-of-silence-healing-through-sound-by-vibha-shah/
ATTACH;FMTTYPE=image/jpeg:https://aurodhan.com/wp-content/uploads/2020/01/VIBHA-HEALING.jpg
END:VEVENT
BEGIN:VEVENT
DTSTART;TZID=UTC:20200113T193000
DTEND;TZID=UTC:20200113T203000
DTSTAMP:20260425T163259
CREATED:20200113T111533Z
LAST-MODIFIED:20200113T111534Z
UID:2583-1578943800-1578947400@aurodhan.com
SUMMARY:ODISSI BY LOPAMUDRA\, EMPHASIZING MINDFULNESS WITH SPIRITURAL BLEND
DESCRIPTION:
URL:https://aurodhan.com/event/odissi-by-lopamudra-emphasizing-mindfulness-with-spiritural-blend/
ATTACH;FMTTYPE=image/jpeg:https://aurodhan.com/wp-content/uploads/2020/01/lopa.jpg
END:VEVENT
BEGIN:VEVENT
DTSTART;TZID=UTC:20200112T000000
DTEND;TZID=UTC:20200112T203000
DTSTAMP:20260425T163259
CREATED:20200109T053840Z
LAST-MODIFIED:20200109T054103Z
UID:2568-1578787200-1578861000@aurodhan.com
SUMMARY:UNITY IN DIVERSITY -ODISSI\, BY REGINA WU AND SAM GORAYA
DESCRIPTION:
URL:https://aurodhan.com/event/unity-in-diversity-odissi-by-regina-wu-and-sam-goraya/
ATTACH;FMTTYPE=image/jpeg:https://aurodhan.com/wp-content/uploads/2020/01/unity-and-diversity.jpeg
END:VEVENT
BEGIN:VEVENT
DTSTART;TZID=UTC:20200111T190000
DTEND;TZID=UTC:20200111T200000
DTSTAMP:20260425T163259
CREATED:20200109T051415Z
LAST-MODIFIED:20200109T051415Z
UID:2562-1578769200-1578772800@aurodhan.com
SUMMARY:PARAM - the Supreme by Bala Gurunathan
DESCRIPTION:
URL:https://aurodhan.com/event/param-the-supreme-by-bala-gurunathan/
ATTACH;FMTTYPE=image/jpeg:https://aurodhan.com/wp-content/uploads/2020/01/AURODHAN-PARAMA-the-supreme.jpg
END:VEVENT
BEGIN:VEVENT
DTSTART;TZID=UTC:20200109T180000
DTEND;TZID=UTC:20200109T180000
DTSTAMP:20260425T163259
CREATED:20200109T052838Z
LAST-MODIFIED:20200109T053127Z
UID:2564-1578592800-1578592800@aurodhan.com
SUMMARY:ANATOMIES- SOLO SHOW BY SUNIL PUJARI
DESCRIPTION:
URL:https://aurodhan.com/event/anatomies-solo-show-by-sunil-pujari/
ATTACH;FMTTYPE=image/jpeg:https://aurodhan.com/wp-content/uploads/2020/01/AURODHAN-Sunil-Pujari-1.jpg
END:VEVENT
BEGIN:VEVENT
DTSTART;TZID=UTC:20200109T170000
DTEND;TZID=UTC:20200109T183000
DTSTAMP:20260425T163259
CREATED:20200109T053410Z
LAST-MODIFIED:20200109T053410Z
UID:2566-1578589200-1578594600@aurodhan.com
SUMMARY:WATER TRAILS - SOLO SHOW BY VIKRANT SHITOLE
DESCRIPTION:
URL:https://aurodhan.com/event/water-trails-solo-show-by-vikrant-shitole/
ATTACH;FMTTYPE=image/jpeg:https://aurodhan.com/wp-content/uploads/2020/01/AURODHAN-Vikrant-Shitole-1.jpg
END:VEVENT
BEGIN:VEVENT
DTSTART;VALUE=DATE:20200107
DTEND;VALUE=DATE:20200108
DTSTAMP:20260425T163259
CREATED:20200102T114032Z
LAST-MODIFIED:20200102T114032Z
UID:2549-1578355200-1578441599@aurodhan.com
SUMMARY:Glorious passeges- An Odissi performance by Mr. Ramli and group
DESCRIPTION:
URL:https://aurodhan.com/event/glorious-passeges-an-odissi-performance-by-mr-ramli-and-group/
ATTACH;FMTTYPE=image/jpeg:https://aurodhan.com/wp-content/uploads/2019/12/AURODHAN-Glorious-Passages-pondicherry.jpg
END:VEVENT
BEGIN:VEVENT
DTSTART;TZID=UTC:20200106T103000
DTEND;TZID=UTC:20200106T113000
DTSTAMP:20260425T163259
CREATED:20200102T114842Z
LAST-MODIFIED:20200102T114842Z
UID:2551-1578306600-1578310200@aurodhan.com
SUMMARY:RACHNA - A PRECIOUS CREATION- BY SUNENA GUPTA\, Disciple of guru Mulla Asfer Khan
DESCRIPTION:
URL:https://aurodhan.com/event/rachna-a-precious-creation-by-sunena-gupta-disciple-of-guru-mulla-asfer-khan/
ATTACH;FMTTYPE=image/jpeg:https://aurodhan.com/wp-content/uploads/2020/01/Aurodhan-Rachna.jpg
END:VEVENT
BEGIN:VEVENT
DTSTART;TZID=Asia/Kolkata:20191214T180000
DTEND;TZID=Asia/Kolkata:20191214T200000
DTSTAMP:20260425T163259
CREATED:20191223T050523Z
LAST-MODIFIED:20191223T052639Z
UID:2507-1576346400-1576353600@aurodhan.com
SUMMARY:Gandhi
DESCRIPTION:Aurodhan art gallery announces the beginning of Pondicherry Dance season by à rehearsal performance of Chennai Dancers at 6pm at Krtashraya the Aurodhan Gardens\, Vaithikuppam. \nPart of Oneneness through art by aurodhan.com it endeavours to promote Cultural Harmony.
URL:https://aurodhan.com/event/gandhi/
LOCATION:Krtashraya Aurodhan Gardens\, Krtashraya Aurodhan Gardens\, Papa mal Koil Street\, Pondicherry\, Puducherry\, 605012\, India
ATTACH;FMTTYPE=image/jpeg:https://aurodhan.com/wp-content/uploads/2019/12/AURODHAN-Gandhi1.jpg
ORGANIZER;CN="Lalit Verma":MAILTO:manager@aurodhan.com
END:VEVENT
END:VCALENDAR